Workbook

Sheet 分配名额定稿（勿动）
A1: 序号 | B1: 基层党委 | C1: 拟分配名额
A2: 序号 | D2: 1:1.2 推荐名额 | E2: 最终名额1为奇数，0为偶数
A3: 1 | B3: 人文学院（铸牢中华民族共同体意识研究中心）党委 | C3: 9 | D3: 11 | E3: 1
A4: 2 | B4: 传媒学院党委 | C4: 4 | D4: 5 | E4: 0
A5: 3 | B5: 哲学学院党委 | C5: 7 | D5: 8 | E5: 1
A6: 4 | B6: 外国语学院党委 | C6: 7 | D6: 8 | E6: 1
A7: 5 | B7: 音乐学院党委 | C7: 5 | D7: 6 | E7: 1
A8: 6 | B8: 美术学院党委 | C8: 3 | D8: 4 | E8: 1
A9: 7 | B9: 法学院党委 | C9: 19 | D9: 23 | E9: 1
A10: 8 | B10: 经济学院党委 | C10: 12 | D10: 14 | E10: 0
A11: 9 | B11: 管理学院党委 | C11: 12 | D11: 14 | E11: 0
A12: 10 | B12: 旅游与文化产业学院党委 | C12: 5 | D12: 6 | E12: 1
A13: 11 | B13: 公共管理学院党委 | C13: 19 | D13: 23 | E13: 1
A14: 12 | B14: 马克思主义学院党委 | C14: 6 | D14: 7 | E14: 0
... A37: 35 | B37: 绿色农药全国重点实验室（精细化工研究开发中心）党委 | C37: 9 | D37: 11 | E37: 1
A38: 36 | C38: 325 | D38: =SUM(D3:D37) -> 390 | E38: 1

Sheet 初报透视表
A3: 计数项:姓名 | B3: 性别
A4: 基层党委 | B4: 男 | C4: 女 | D4: (空白) | E4: 总计
A5: 材料与冶金学院党委 | B5: 10 | C5: 7 | E5: 17 | F5: 1 | G5: 人文学院（铸牢中华民族共同体意识研究中心）党委 | H5: 11 | I5: =VLOOKUP(G5,A:E,5,0) -> 11 | J5: =H5-I5 -> 0
A6: 茶学院党委 | B6: 2 | C6: 3 | E6: 5 | F6: 2 | G6: 传媒学院党委 | H6: 5 | I6: =VLOOKUP(G6,A:E,5,0) -> 5 | J6: =H6-I6 -> 0
A7: 大数据与信息工程学院党委 | B7: 8 | C7: 4 | E7: 12 | F7: 3 | G7: 哲学学院党委 | H7: 8 | I7: =VLOOKUP(G7,A:E,5,0) -> 8 | J7: =H7-I7 -> 0
A8: 电气工程学院党委 | B8: 6 | C8: 4 | E8: 10 | F8: 4 | G8: 外国语学院党委 | H8: 8 | I8: =VLOOKUP(G8,A:E,5,0) -> 8 | J8: =H8-I8 -> 0
A9: 动物科学学院党委 | B9: 5 | C9: 7 | E9: 12 | F9: 5 | G9: 音乐学院党委 | H9: 6 | I9: =VLOOKUP(G9,A:E,5,0) -> 6 | J9: =H9-I9 -> 0
A10: 法学院党委 | B10: 11 | C10: 12 | E10: 23 | F10: 6 | G10: 美术学院党委 | H10: 4 | I10: =VLOOKUP(G10,A:E,5,0) -> 4 | J10: =H10-I10 -> 0
A11: 管理学院党委 | B11: 7 | C11: 7 | E11: 14 | F11: 7 | G11: 法学院党委 | H11: 23 | I11: =VLOOKUP(G11,A:E,5,0) -> 23 | J11: =H11-I11 -> 0
A12: 化学与化工学院党委 | B12: 9 | C12: 9 | E12: 18 | F12: 8 | G12: 经济学院党委 | H12: 14 | I12: =VLOOKUP(G12,A:E,5,0) -> 14 | J12: =H12-I12 -> 0
A13: 计算机科学与技术学院（贵州保密学院）党委 | B13: 9 | C13: 9 | E13: 18 | F13: 9 | G13: 管理学院党委 | H13: 14 | I13: =VLOOKUP(G13,A:E,5,0) -> 14 | J13: =H13-I13 -> 0
A14: 经济学院党委 | B14: 4 | C14: 10 | E14: 14 | F14: 10 | G14: 旅游与文化产业学院党委 | H14: 6 | I14: =VLOOKUP(G14,A:E,5,0) -> 6 | J14: =H14-I14 -> 0
A15: 林学院党委 | B15: 7 | C15: 6 | E15: 13 | F15: 11 | G15: 公共管理学院党委 | H15: 23 | I15: =VLOOKUP(G15,A:E,5,0) -> 23 | J15: =H15-I15 -> 0
A16: 旅游与文化产业学院党委 | B16: 1 | C16: 5 | E16: 6 | F16: 12 | G16: 马克思主义学院党委 | H16: 7 | I16: =VLOOKUP(G16,A:E,5,0) -> 7 | J16: =H16-I16 -> 0
... A19: 数学与统计学院党委 | B19: 6 | C19: 7 | E19: 13 | F19: 15 | G19: 物理学院党委 | H19: 4 | I19: =VLOOKUP(G19,A:E,5,0) -> 4 | J19: =H19-I19 -> 0
A20: 体育学院党委 | B20: 2 | E20: 2 | F20: 16 | G20: 生命科学学院党委 | H20: 10 | I20: =VLOOKUP(G20,A:E,5,0) -> 10 | J20: =H20-I20 -> 0
A21: 土木工程学院党委 | B21: 6 | C21: 6 | E21: 12 | F21: 17 | G21: 计算机科学与技术学院（贵州保密学院）党委 | H21: 18 | I21: =VLOOKUP(G21,A:E,5,0) -> 18 | J21: =H21-I21 -> 0
A22: 外国语学院党委 | B22: 1 | C22: 7 | E22: 8 | F22: 18 | G22: 大数据与信息工程学院党委 | H22: 12 | I22: =VLOOKUP(G22,A:E,5,0) -> 12 | J22: =H22-I22 -> 0
A23: 烟草学院党委 | B23: 3 | C23: 2 | E23: 5 | F23: 19 | G23: 机械工程学院党委 | H23: 14 | I23: =VLOOKUP(G23,A:E,5,0) -> 14 | J23: =H23-I23 -> 0
A24: 药学院党委 | B24: 2 | C24: 3 | E24: 5 | F24: 20 | G24: 电气工程学院党委 | H24: 10 | I24: =VLOOKUP(G24,A:E,5,0) -> 10 | J24: =H24-I24 -> 0
A25: 医学院党委 | B25: 1 | C25: 4 | E25: 5 | F25: 21 | G25: 土木工程学院党委 | H25: 12 | I25: =VLOOKUP(G25,A:E,5,0) -> 12 | J25: =H25-I25 -> 0
A26: 音乐学院党委 | C26: 6 | E26: 6 | F26: 22 | G26: 建筑与城市规划学院党委 | H26: 7 | I26: =VLOOKUP(G26,A:E,5,0) -> 7 | J26: =H26-I26 -> 0
A27: 哲学学院党委 | B27: 4 | C27: 4 | E27: 8 | F27: 23 | G27: 材料与冶金学院党委 | H27: 17 | I27: =VLOOKUP(G27,A:E,5,0) -> 17 | J27: =H27-I27 -> 0
A28: (空白) | F28: 24 | G28: 化学与化工学院党委 | H28: 18 | I28: =VLOOKUP(G28,A:E,5,0) -> 18 | J28: =H28-I28 -> 0
A29: 传媒学院党委 | C29: 5 | E29: 5 | F29: 25 | G29: 矿业学院党委 | H29: 11 | I29: =VLOOKUP(G29,A:E,5,0) -> 11 | J29: =H29-I29 -> 0
A30: 公共管理学院党委 | B30: 11 | C30: 12 | E30: 23 | F30: 26 | G30: 资源与环境工程学院党委 | H30: 23 | I30: =VLOOKUP(G30,A:E,5,0) -> 23 | J30: =H30-I30 -> 0
A31: 物理学院党委 | B31: 1 | C31: 3 | E31: 4 | F31: 27 | G31: 酿酒与食品工程学院（白酒研究院）党委 | H31: 7 | I31: =VLOOKUP(G31,A:E,5,0) -> 7 | J31: =H31-I31 -> 0
A32: 生命科学学院党委 | B32: 3 | C32: 7 | E32: 10 | F32: 28 | G32: 农学院党委 | H32: 26 | I32: =VLOOKUP(G32,A:E,5,0) -> 26 | J32: =H32-I32 -> 0
A33: 机械工程学院党委 | B33: 9 | C33: 5 | E33: 14 | F33: 29 | G33: 林学院党委 | H33: 13 | I33: =VLOOKUP(G33,A:E,5,0) -> 13 | J33: =H33-I33 -> 0
A34: 建筑与城市规划学院党委 | B34: 4 | C34: 3 | E34: 7 | F34: 30 | G34: 动物科学学院党委 | H34: 12 | I34: =VLOOKUP(G34,A:E,5,0) -> 12 | J34: =H34-I34 -> 0
A35: 矿业学院党委 | B35: 7 | C35: 4 | E35: 11 | F35: 31 | G35: 药学院党委 | H35: 5 | I35: =VLOOKUP(G35,A:E,5,0) -> 5 | J35: =H35-I35 -> 0
A36: 农学院党委 | B36: 12 | C36: 14 | E36: 26 | F36: 32 | G36: 烟草学院党委 | H36: 5 | I36: =VLOOKUP(G36,A:E,5,0) -> 5 | J36: =H36-I36 -> 0
A37: 绿色农药全国重点实验室（精细化工研究开发中心）党委 | B37: 5 | C37: 6 | E37: 11 | F37: 33 | G37: 医学院党委 | H37: 6 | I37: =VLOOKUP(G37,A:E,5,0) -> 5 | J37: =H37-I37 -> 1
A38: 人文学院（铸牢中华民族共同体意识研究中心）党委 | B38: 1 | C38: 10 | E38: 11 | F38: 34 | G38: 茶学院党委 | H38: 5 | I38: =VLOOKUP(G38,A:E,5,0) -> 5 | J38: =H38-I38 -> 0
A39: 酿酒与食品工程学院（白酒研究院）党委 | B39: 4 | C39: 3 | E39: 7 | F39: 35 | G39: 绿色农药全国重点实验室（精细化工研究开发中心）党委 | H39: 11 | I39: =VLOOKUP(G39,A:E,5,0) -> 11 | J39: =H39-I39 -> 0
A40: 资源与环境工程学院党委 | B40: 15 | C40: 8 | E40: 23 | F40: 总计 | H40: =SUM(H5:H39) -> 390 | I40: =VLOOKUP(G40,A:E,5,0) -> #N/A
A41: 总计 | B41: 180 | C41: 209 | E41: 389 | I41: =VLOOKUP(G41,A:E,5,0) -> #N/A
B43: 162 | C43: 163
B44: =GETPIVOTDATA("姓名",$A$3,"性别","男")-B43 -> 18 | C44: =GETPIVOTDATA("姓名",$A$3,"性别","女")-C43 -> 46
B45: 男生删除人数 | C45: 女生删除人数

Sheet Sheet3
A1: 贵州大学推荐报考贵州省2027年度定向选调优秀毕业生人员名单
A2: 序号 | B2: 姓名 | C2: 民族 | D2: 政治面貌 | E2: 备注
A3: 1 | B3: 敖珦芳 | C3: 汉族 | D3: 中共党员
A4: 2 | B4: 蒋瑶瑶 | C4: 汉族 | D4: 中共党员
A5: 3 | B5: 谭海芬 | C5: 汉族 | D5: 中共党员
A6: 4 | B6: 周丹 | C6: 汉族 | D6: 中共党员
A7: 5 | B7: 聂妮娅 | C7: 汉族 | D7: 中共党员
A8: 6 | B8: 邓晨 | C8: 汉族 | D8: 中共党员
A9: 7 | B9: 穆小兰 | C9: 汉族 | D9: 中共预备党员
A10: 8 | B10: 盘金师 | C10: 瑶族 | D10: 中共党员
A11: 9 | B11: 姜若琪 | C11: 水族 | D11: 中共党员
A12: 10 | B12: 胡妤 | C12: 穿青人 | D12: 中共党员
A13: 11 | B13: 杨凤仙 | C13: 侗族 | D13: 中共预备党员
A14: 12 | B14: 何玉婷 | C14: 汉族 | D14: 中共党员
... A327: 325 | B327: 谢家兴 | C327: 汉族 | D327: 中共预备党员

Sheet 男生多报
A3: 计数项:姓名 | B3: 性别 | L3: 男生多报 | M3: 初报名额 | N3: 最终名额
A4: 基层党委 | B4: 男 | C4: 女 | D4: (空白) | E4: 总计
A5: 材料与冶金学院党委 | B5: 10 | C5: 7 | E5: 17 | F5: 1 | G5: 人文学院（铸牢中华民族共同体意识研究中心）党委 | H5: 11 | I5: =VLOOKUP(G5,A:E,5,0) -> 11 | J5: =H5-I5 -> 0 | L5: =IF(B5>C5,B5-E5/2,"") -> 1.5 | M5: =VLOOKUP(A5,'分配名额定稿（勿动）'!$B$3:$D$37,3,0) -> 17 | N5: =VLOOKUP(A5,'分配名额定稿（勿动）'!$B$3:$D$37,2,0) -> 14 | O5: 1
A6: 茶学院党委 | B6: 2 | C6: 3 | E6: 5 | F6: 2 | G6: 传媒学院党委 | H6: 5 | I6: =VLOOKUP(G6,A:E,5,0) -> 5 | J6: =H6-I6 -> 0 | L6: =IF(B6>C6,B6-E6/2,"")
A7: 大数据与信息工程学院党委 | B7: 8 | C7: 4 | E7: 12 | F7: 3 | G7: 哲学学院党委 | H7: 8 | I7: =VLOOKUP(G7,A:E,5,0) -> 8 | J7: =H7-I7 -> 0 | L7: =IF(B7>C7,B7-E7/2,"") -> 2 | M7: =VLOOKUP(A7,'分配名额定稿（勿动）'!$B$3:$D$37,3,0) -> 12 | N7: =VLOOKUP(A7,'分配名额定稿（勿动）'!$B$3:$D$37,2,0) -> 10 | O7: =ROUND(L7,0) -> 2
A8: 电气工程学院党委 | B8: 6 | C8: 4 | E8: 10 | F8: 4 | G8: 外国语学院党委 | H8: 8 | I8: =VLOOKUP(G8,A:E,5,0) -> 8 | J8: =H8-I8 -> 0 | L8: =IF(B8>C8,B8-E8/2,"") -> 1 | M8: =VLOOKUP(A8,'分配名额定稿（勿动）'!$B$3:$D$37,3,0) -> 10 | N8: =VLOOKUP(A8,'分配名额定稿（勿动）'!$B$3:$D$37,2,0) -> 8 | O8: =ROUND(L8,0) -> 1
A9: 动物科学学院党委 | B9: 5 | C9: 7 | E9: 12 | F9: 5 | G9: 音乐学院党委 | H9: 6 | I9: =VLOOKUP(G9,A:E,5,0) -> 6 | J9: =H9-I9 -> 0 | L9: =IF(B9>C9,B9-E9/2,"")
A10: 法学院党委 | B10: 11 | C10: 12 | E10: 23 | F10: 6 | G10: 美术学院党委 | H10: 4 | I10: =VLOOKUP(G10,A:E,5,0) -> 4 | J10: =H10-I10 -> 0 | L10: =IF(B10>C10,B10-E10/2,"")
A11: 管理学院党委 | B11: 7 | C11: 7 | E11: 14 | F11: 7 | G11: 法学院党委 | H11: 23 | I11: =VLOOKUP(G11,A:E,5,0) -> 23 | J11: =H11-I11 -> 0 | L11: =IF(B11>C11,B11-E11/2,"")
A12: 化学与化工学院党委 | B12: 9 | C12: 9 | E12: 18 | F12: 8 | G12: 经济学院党委 | H12: 14 | I12: =VLOOKUP(G12,A:E,5,0) -> 14 | J12: =H12-I12 -> 0 | L12: =IF(B12>C12,B12-E12/2,"")
A13: 计算机科学与技术学院（贵州保密学院）党委 | B13: 9 | C13: 9 | E13: 18 | F13: 9 | G13: 管理学院党委 | H13: 14 | I13: =VLOOKUP(G13,A:E,5,0) -> 14 | J13: =H13-I13 -> 0 | L13: =IF(B13>C13,B13-E13/2,"")
A14: 经济学院党委 | B14: 4 | C14: 10 | E14: 14 | F14: 10 | G14: 旅游与文化产业学院党委 | H14: 6 | I14: =VLOOKUP(G14,A:E,5,0) -> 6 | J14: =H14-I14 -> 0 | L14: =IF(B14>C14,B14-E14/2,"")
A15: 林学院党委 | B15: 7 | C15: 6 | E15: 13 | F15: 11 | G15: 公共管理学院党委 | H15: 23 | I15: =VLOOKUP(G15,A:E,5,0) -> 23 | J15: =H15-I15 -> 0 | L15: =IF(B15>C15,B15-E15/2,"") -> 0.5 | M15: =VLOOKUP(A15,'分配名额定稿（勿动）'!$B$3:$D$37,3,0) -> 13 | N15: =VLOOKUP(A15,'分配名额定稿（勿动）'!$B$3:$D$37,2,0) -> 11 | O15: 1
A16: 旅游与文化产业学院党委 | B16: 1 | C16: 5 | E16: 6 | F16: 12 | G16: 马克思主义学院党委 | H16: 7 | I16: =VLOOKUP(G16,A:E,5,0) -> 7 | J16: =H16-I16 -> 0 | L16: =IF(B16>C16,B16-E16/2,"")
A17: 马克思主义学院党委 | B17: 3 | C17: 4 | E17: 7 | F17: 13 | G17: 体育学院党委 | H17: 2 | I17: =VLOOKUP(G17,A:E,5,0) -> 2 | J17: =H17-I17 -> 0 | L17: =IF(B17>C17,B17-E17/2,"")
A18: 美术学院党委 | B18: 1 | C18: 3 | E18: 4 | F18: 14 | G18: 数学与统计学院党委 | H18: 13 | I18: =VLOOKUP(G18,A:E,5,0) -> 13 | J18: =H18-I18 -> 0 | L18: =IF(B18>C18,B18-E18/2,"")
A19: 数学与统计学院党委 | B19: 6 | C19: 7 | E19: 13 | F19: 15 | G19: 物理学院党委 | H19: 4 | I19: =VLOOKUP(G19,A:E,5,0) -> 4 | J19: =H19-I19 -> 0 | L19: =IF(B19>C19,B19-E19/2,"")
A20: 体育学院党委 | B20: 2 | E20: 2 | F20: 16 | G20: 生命科学学院党委 | H20: 10 | I20: =VLOOKUP(G20,A:E,5,0) -> 10 | J20: =H20-I20 -> 0 | L20: =IF(B20>C20,B20-E20/2,"") -> 1 | M20: =VLOOKUP(A20,'分配名额定稿（勿动）'!$B$3:$D$37,3,0) -> 2 | N20: =VLOOKUP(A20,'分配名额定稿（勿动）'!$B$3:$D$37,2,0) -> 2 | O20: =ROUND(L20,0) -> 1
A21: 土木工程学院党委 | B21: 6 | C21: 6 | E21: 12 | F21: 17 | G21: 计算机科学与技术学院（贵州保密学院）党委 | H21: 18 | I21: =VLOOKUP(G21,A:E,5,0) -> 18 | J21: =H21-I21 -> 0 | L21: =IF(B21>C21,B21-E21/2,"")
A22: 外国语学院党委 | B22: 1 | C22: 7 | E22: 8 | F22: 18 | G22: 大数据与信息工程学院党委 | H22: 12 | I22: =VLOOKUP(G22,A:E,5,0) -> 12 | J22: =H22-I22 -> 0 | L22: =IF(B22>C22,B22-E22/2,"")
A23: 烟草学院党委 | B23: 3 | C23: 2 | E23: 5 | F23: 19 | G23: 机械工程学院党委 | H23: 14 | I23: =VLOOKUP(G23,A:E,5,0) -> 14 | J23: =H23-I23 -> 0 | L23: =IF(B23>C23,B23-E23/2,"") -> 0.5 | M23: =VLOOKUP(A23,'分配名额定稿（勿动）'!$B$3:$D$37,3,0) -> 5 | N23: =VLOOKUP(A23,'分配名额定稿（勿动）'!$B$3:$D$37,2,0) -> 4 | O23: 1
A24: 药学院党委 | B24: 2 | C24: 3 | E24: 5 | F24: 20 | G24: 电气工程学院党委 | H24: 10 | I24: =VLOOKUP(G24,A:E,5,0) -> 10 | J24: =H24-I24 -> 0 | L24: =IF(B24>C24,B24-E24/2,"")
A25: 医学院党委 | B25: 1 | C25: 4 | E25: 5 | F25: 21 | G25: 土木工程学院党委 | H25: 12 | I25: =VLOOKUP(G25,A:E,5,0) -> 12 | J25: =H25-I25 -> 0 | L25: =IF(B25>C25,B25-E25/2,"")
A26: 音乐学院党委 | C26: 6 | E26: 6 | F26: 22 | G26: 建筑与城市规划学院党委 | H26: 7 | I26: =VLOOKUP(G26,A:E,5,0) -> 7 | J26: =H26-I26 -> 0 | L26: =IF(B26>C26,B26-E26/2,"")
A27: 哲学学院党委 | B27: 4 | C27: 4 | E27: 8 | F27: 23 | G27: 材料与冶金学院党委 | H27: 17 | I27: =VLOOKUP(G27,A:E,5,0) -> 17 | J27: =H27-I27 -> 0 | L27: =IF(B27>C27,B27-E27/2,"")
A28: (空白) | F28: 24 | G28: 化学与化工学院党委 | H28: 18 | I28: =VLOOKUP(G28,A:E,5,0) -> 18 | J28: =H28-I28 -> 0 | L28: =IF(B28>C28,B28-E28/2,"")
A29: 传媒学院党委 | C29: 5 | E29: 5 | F29: 25 | G29: 矿业学院党委 | H29: 11 | I29: =VLOOKUP(G29,A:E,5,0) -> 11 | J29: =H29-I29 -> 0 | L29: =IF(B29>C29,B29-E29/2,"")
A30: 公共管理学院党委 | B30: 11 | C30: 12 | E30: 23 | F30: 26 | G30: 资源与环境工程学院党委 | H30: 23 | I30: =VLOOKUP(G30,A:E,5,0) -> 23 | J30: =H30-I30 -> 0 | L30: =IF(B30>C30,B30-E30/2,"")
A31: 物理学院党委 | B31: 1 | C31: 3 | E31: 4 | F31: 27 | G31: 酿酒与食品工程学院（白酒研究院）党委 | H31: 7 | I31: =VLOOKUP(G31,A:E,5,0) -> 7 | J31: =H31-I31 -> 0 | L31: =IF(B31>C31,B31-E31/2,"")
A32: 生命科学学院党委 | B32: 3 | C32: 7 | E32: 10 | F32: 28 | G32: 农学院党委 | H32: 26 | I32: =VLOOKUP(G32,A:E,5,0) -> 26 | J32: =H32-I32 -> 0 | L32: =IF(B32>C32,B32-E32/2,"")
A33: 机械工程学院党委 | B33: 9 | C33: 5 | E33: 14 | F33: 29 | G33: 林学院党委 | H33: 13 | I33: =VLOOKUP(G33,A:E,5,0) -> 13 | J33: =H33-I33 -> 0 | L33: =IF(B33>C33,B33-E33/2,"") -> 2 | M33: =VLOOKUP(A33,'分配名额定稿（勿动）'!$B$3:$D$37,3,0) -> 14 | N33: =VLOOKUP(A33,'分配名额定稿（勿动）'!$B$3:$D$37,2,0) -> 12 | O33: =ROUND(L33,0) -> 2
A34: 建筑与城市规划学院党委 | B34: 4 | C34: 3 | E34: 7 | F34: 30 | G34: 动物科学学院党委 | H34: 12 | I34: =VLOOKUP(G34,A:E,5,0) -> 12 | J34: =H34-I34 -> 0 | L34: =IF(B34>C34,B34-E34/2,"") -> 0.5 | M34: =VLOOKUP(A34,'分配名额定稿（勿动）'!$B$3:$D$37,3,0) -> 7 | N34: =VLOOKUP(A34,'分配名额定稿（勿动）'!$B$3:$D$37,2,0) -> 6 | O34: 1
A35: 矿业学院党委 | B35: 7 | C35: 4 | E35: 11 | F35: 31 | G35: 药学院党委 | H35: 5 | I35: =VLOOKUP(G35,A:E,5,0) -> 5 | J35: =H35-I35 -> 0 | L35: =IF(B35>C35,B35-E35/2,"") -> 1.5 | M35: =VLOOKUP(A35,'分配名额定稿（勿动）'!$B$3:$D$37,3,0) -> 11 | N35: =VLOOKUP(A35,'分配名额定稿（勿动）'!$B$3:$D$37,2,0) -> 9 | O35: 1
A36: 农学院党委 | B36: 12 | C36: 14 | E36: 26 | F36: 32 | G36: 烟草学院党委 | H36: 5 | I36: =VLOOKUP(G36,A:E,5,0) -> 5 | J36: =H36-I36 -> 0 | L36: =IF(B36>C36,B36-E36/2,"")
A37: 绿色农药全国重点实验室（精细化工研究开发中心）党委 | B37: 5 | C37: 6 | E37: 11 | F37: 33 | G37: 医学院党委 | H37: 6 | I37: =VLOOKUP(G37,A:E,5,0) -> 5 | J37: =H37-I37 -> 1 | L37: =IF(B37>C37,B37-E37/2,"")
A38: 人文学院（铸牢中华民族共同体意识研究中心）党委 | B38: 1 | C38: 10 | E38: 11 | F38: 34 | G38: 茶学院党委 | H38: 5 | I38: =VLOOKUP(G38,A:E,5,0) -> 5 | J38: =H38-I38 -> 0 | L38: =IF(B38>C38,B38-E38/2,"")
A39: 酿酒与食品工程学院（白酒研究院）党委 | B39: 4 | C39: 3 | E39: 7 | F39: 35 | G39: 绿色农药全国重点实验室（精细化工研究开发中心）党委 | H39: 11 | I39: =VLOOKUP(G39,A:E,5,0) -> 11 | J39: =H39-I39 -> 0 | L39: =IF(B39>C39,B39-E39/2,"") -> 0.5 | M39: =VLOOKUP(A39,'分配名额定稿（勿动）'!$B$3:$D$37,3,0) -> 7 | N39: =VLOOKUP(A39,'分配名额定稿（勿动）'!$B$3:$D$37,2,0) -> 6 | O39: =ROUND(L39,0) -> 1
A40: 资源与环境工程学院党委 | B40: 15 | C40: 8 | E40: 23 | F40: 总计 | H40: =SUM(H5:H39) -> 390 | I40: =VLOOKUP(G40,A:E,5,0) -> #N/A | L40: =IF(B40>C40,B40-E40/2,"") -> 3.5 | M40: =VLOOKUP(A40,'分配名额定稿（勿动）'!$B$3:$D$37,3,0) -> 23 | N40: =VLOOKUP(A40,'分配名额定稿（勿动）'!$B$3:$D$37,2,0) -> 19 | O40: 3
A41: 总计 | B41: 180 | C41: 209 | E41: 389 | I41: =VLOOKUP(G41,A:E,5,0) -> #N/A | L41: =IF(B41>C41,B41-E41/2,"")
B43: 162 | C43: 163
B45: 男生删除人数 | C45: 女生删除人数 | M45: =SUM(M5:M40)/2 -> 60.5
A47: 材料与冶金学院 大数据与信息工程学院 电气工程学院 林学院 体育学院 烟草学院 机械工程学院 建筑与城市规划学院 矿业学院 酿酒与食品工程学院（白酒研究院） 资源与环境工程学院

Sheet 女生多报
A3: 计数项:姓名 | B3: 性别
A4: 基层党委 | B4: 男 | C4: 女 | D4: 总计 | E4: 平均人数 | F4: 女生多报人数
A5: 材料与冶金学院党委 | B5: 10 | C5: 7 | D5: 17 | E5: =D5/2 -> 8.5 | F5: =C5-E5 -> -1.5
A6: 茶学院党委 | B6: 2 | C6: 3 | D6: 5 | E6: =D6/2 -> 2.5 | F6: =C6-E6 -> 0.5
A7: 大数据与信息工程学院党委 | B7: 8 | C7: 4 | D7: 12 | E7: =D7/2 -> 6 | F7: =C7-E7 -> -2
A8: 电气工程学院党委 | B8: 6 | C8: 4 | D8: 10 | E8: =D8/2 -> 5 | F8: =C8-E8 -> -1
A9: 动物科学学院党委 | B9: 5 | C9: 7 | D9: 12 | E9: =D9/2 -> 6 | F9: =C9-E9 -> 1
A10: 法学院党委 | B10: 11 | C10: 12 | D10: 23 | E10: =D10/2 -> 11.5 | F10: =C10-E10 -> 0.5
A11: 管理学院党委 | B11: 7 | C11: 7 | D11: 14 | E11: =D11/2 -> 7 | F11: =C11-E11 -> 0
A12: 化学与化工学院党委 | B12: 9 | C12: 9 | D12: 18 | E12: =D12/2 -> 9 | F12: =C12-E12 -> 0
A13: 计算机科学与技术学院（贵州保密学院）党委 | B13: 9 | C13: 9 | D13: 18 | E13: =D13/2 -> 9 | F13: =C13-E13 -> 0
A14: 经济学院党委 | B14: 4 | C14: 10 | D14: 14 | E14: =D14/2 -> 7 | F14: =C14-E14 -> 3
A15: 林学院党委 | B15: 7 | C15: 6 | D15: 13 | E15: =D15/2 -> 6.5 | F15: =C15-E15 -> -0.5
A16: 旅游与文化产业学院党委 | B16: 1 | C16: 5 | D16: 6 | E16: =D16/2 -> 3 | F16: =C16-E16 -> 2
... A19: 数学与统计学院党委 | B19: 6 | C19: 7 | D19: 13 | E19: =D19/2 -> 6.5 | F19: =C19-E19 -> 0.5
A20: 体育学院党委 | B20: 2 | D20: 2 | E20: =D20/2 -> 1 | F20: =C20-E20 -> -1
A21: 土木工程学院党委 | B21: 6 | C21: 6 | D21: 12 | E21: =D21/2 -> 6 | F21: =C21-E21 -> 0
A22: 外国语学院党委 | B22: 1 | C22: 7 | D22: 8 | E22: =D22/2 -> 4 | F22: =C22-E22 -> 3
A23: 烟草学院党委 | B23: 3 | C23: 2 | D23: 5 | E23: =D23/2 -> 2.5 | F23: =C23-E23 -> -0.5
A24: 药学院党委 | B24: 2 | C24: 3 | D24: 5 | E24: =D24/2 -> 2.5 | F24: =C24-E24 -> 0.5
A25: 医学院党委 | B25: 1 | C25: 4 | D25: 5 | E25: =D25/2 -> 2.5 | F25: =C25-E25 -> 1.5
A26: 音乐学院党委 | C26: 6 | D26: 6 | E26: =D26/2 -> 3 | F26: =C26-E26 -> 3
A27: 哲学学院党委 | B27: 4 | C27: 4 | D27: 8 | E27: =D27/2 -> 4 | F27: =C27-E27 -> 0
A28: (空白) | E28: =D28/2 -> 0 | F28: =C28-E28 -> 0
A29: 传媒学院党委 | C29: 5 | D29: 5 | E29: =D29/2 -> 2.5 | F29: =C29-E29 -> 2.5
A30: 公共管理学院党委 | B30: 11 | C30: 12 | D30: 23 | E30: =D30/2 -> 11.5 | F30: =C30-E30 -> 0.5
A31: 物理学院党委 | B31: 1 | C31: 3 | D31: 4 | E31: =D31/2 -> 2 | F31: =C31-E31 -> 1
A32: 生命科学学院党委 | B32: 3 | C32: 7 | D32: 10 | E32: =D32/2 -> 5 | F32: =C32-E32 -> 2 | I32: =65-14 -> 51
A33: 机械工程学院党委 | B33: 9 | C33: 5 | D33: 14 | E33: =D33/2 -> 7 | F33: =C33-E33 -> -2
A34: 建筑与城市规划学院党委 | B34: 4 | C34: 3 | D34: 7 | E34: =D34/2 -> 3.5 | F34: =C34-E34 -> -0.5
A35: 矿业学院党委 | B35: 7 | C35: 4 | D35: 11 | E35: =D35/2 -> 5.5 | F35: =C35-E35 -> -1.5
A36: 农学院党委 | B36: 12 | C36: 14 | D36: 26 | E36: =D36/2 -> 13 | F36: =C36-E36 -> 1
A37: 绿色农药全国重点实验室（精细化工研究开发中心）党委 | B37: 5 | C37: 6 | D37: 11 | E37: =D37/2 -> 5.5 | F37: =C37-E37 -> 0.5
A38: 人文学院（铸牢中华民族共同体意识研究中心）党委 | B38: 1 | C38: 10 | D38: 11 | E38: =D38/2 -> 5.5 | F38: =C38-E38 -> 4.5
A39: 酿酒与食品工程学院（白酒研究院）党委 | B39: 4 | C39: 3 | D39: 7 | E39: =D39/2 -> 3.5 | F39: =C39-E39 -> -0.5
A40: 资源与环境工程学院党委 | B40: 15 | C40: 8 | D40: 23 | E40: =D40/2 -> 11.5 | F40: =C40-E40 -> -3.5
A41: 总计 | B41: 180 | C41: 209 | D41: 389 | E41: =D41/2 -> 194.5 | F41: =C41-E41 -> 14.5
B43: 162.5
